<?xml version="1.0" encoding="UTF-8" standalone="no"?>
<metadata xml:lang="en">
<Esri>
<MetaID>{F533519C-74ED-4900-81AE-0AAD982A896E}</MetaID>
<CreaDate>20060818</CreaDate>
<CreaTime>16395700</CreaTime>
<SyncOnce>FALSE</SyncOnce>
<DataProperties>
<lineage>
<Process Date="20060818" Name="Mosaic_1" Time="163957" ToolSource="C:\Program Files\ArcGIS\ArcToolbox\Toolboxes\Data Management Tools.tbx\Mosaic">Mosaic 'C:\1977 tax maps\Clipped\map10clip.tif';'C:\1977 tax maps\Clipped\map11clip.tif';'C:\1977 tax maps\Clipped\map12clip.tif';'C:\1977 tax maps\Clipped\map13clip.tif';'C:\1977 tax maps\Clipped\map14clip.tif';'C:\1977 tax maps\Clipped\map15clip.tif';'C:\1977 tax maps\Clipped\map16clip.tif';'C:\1977 tax maps\Clipped\map17clip.tif';'C:\1977 tax maps\Clipped\map18clip.tif';'C:\1977 tax maps\Clipped\map19clip.tif';'C:\1977 tax maps\Clipped\map1clip.tif';'C:\1977 tax maps\Clipped\map20clip.tif';'C:\1977 tax maps\Clipped\map21clip.tif';'C:\1977 tax maps\Clipped\map22clip.tif';'C:\1977 tax maps\Clipped\map23clip.tif';'C:\1977 tax maps\Clipped\map24clip.tif';'C:\1977 tax maps\Clipped\map25clip.tif';'C:\1977 tax maps\Clipped\map26clip.tif';'C:\1977 tax maps\Clipped\map27clip.tif';'C:\1977 tax maps\Clipped\map28clip.tif';'C:\1977 tax maps\Clipped\map29clip.tif';'C:\1977 tax maps\Clipped\map2clip.tif';'C:\1977 tax maps\Clipped\map30clip.tif';'C:\1977 tax maps\Clipped\map31clip.tif';'C:\1977 tax maps\Clipped\map32clip.tif';'C:\1977 tax maps\Clipped\map33clip.tif';'C:\1977 tax maps\Clipped\map34clip.tif';'C:\1977 tax maps\Clipped\map35clip.tif';'C:\1977 tax maps\Clipped\map36clip.tif';'C:\1977 tax maps\Clipped\map37clip.tif';'C:\1977 tax maps\Clipped\map38clip.tif';'C:\1977 tax maps\Clipped\map39clip.tif';'C:\1977 tax maps\Clipped\map3clip.tif';'C:\1977 tax maps\Clipped\map40clip.tif';'C:\1977 tax maps\Clipped\map41clip.tif';'C:\1977 tax maps\Clipped\map42clip.tif';'C:\1977 tax maps\Clipped\map43clip.tif';'C:\1977 tax maps\Clipped\map44clip.tif';'C:\1977 tax maps\Clipped\map45clip.tif';'C:\1977 tax maps\Clipped\map46clip.tif';'C:\1977 tax maps\Clipped\map47clip.tif';'C:\1977 tax maps\Clipped\map48clip.tif';'C:\1977 tax maps\Clipped\map49clip.tif';'C:\1977 tax maps\Clipped\map4clip.tif';'C:\1977 tax maps\Clipped\map50clip.tif';'C:\1977 tax maps\Clipped\map51clip.tif';'C:\1977 tax maps\Clipped\map52clip.tif';'C:\1977 tax maps\Clipped\map53clip.tif';'C:\1977 tax maps\Clipped\map54clip.tif';'C:\1977 tax maps\Clipped\map55clip.tif';'C:\1977 tax maps\Clipped\map56clip.tif';'C:\1977 tax maps\Clipped\map57clip.tif';'C:\1977 tax maps\Clipped\map58clip.tif';'C:\1977 tax maps\Clipped\map59clip.tif';'C:\1977 tax maps\Clipped\map5clip.tif';'C:\1977 tax maps\Clipped\map60clip.tif';'C:\1977 tax maps\Clipped\map61clip.tif';'C:\1977 tax maps\Clipped\map62clip.tif';'C:\1977 tax maps\Clipped\map63clip.tif';'C:\1977 tax maps\Clipped\map64clip.tif';'C:\1977 tax maps\Clipped\map65clip.tif';'C:\1977 tax maps\Clipped\map66clip.tif';'C:\1977 tax maps\Clipped\map67clip.tif';'C:\1977 tax maps\Clipped\map68clip.tif';'C:\1977 tax maps\Clipped\map69clip.tif';'C:\1977 tax maps\Clipped\map6clip.tif';'C:\1977 tax maps\Clipped\map7clip.tif';'C:\1977 tax maps\Clipped\map8clip.tif';'C:\1977 tax maps\Clipped\map9clip.tif' "C:\1977 tax maps\1977TaxMaps.mdb\Maps" LAST FIRST # # NONE 0 "C:\1977 tax maps\1977TaxMaps.mdb\Maps"</Process>
<Process Date="20220811" Time="093329" ToolSource="c:\program files (x86)\arcgis\desktop10.8\ArcToolbox\Toolboxes\Data Management Tools.tbx\CopyRaster">CopyRaster X:\Koren\1977TaxMaps.mdb\Maps X:\Koren\tm_1977_arcpro.gdb\Maps # # 3 NONE NONE # NONE NONE "Esri Grid" NONE</Process>
<Process Date="20240320" Time="105215" ToolSource="c:\program files\arcgis\pro\Resources\ArcToolbox\toolboxes\Data Management Tools.tbx\BuildPyramids">BuildPyramids \\gisbdstore\GISDATA\Bruce\tm_1977_arcpro.gdb\Maps -1 NONE Nearest DEFAULT 75 OVERWRITE</Process>
</lineage>
<itemProps>
<itemName Sync="TRUE">Maps</itemName>
<imsContentType Sync="TRUE">002</imsContentType>
<nativeExtBox>
<westBL Sync="TRUE">1432399.080000</westBL>
<eastBL Sync="TRUE">1573420.080000</eastBL>
<southBL Sync="TRUE">624735.239802</southBL>
<northBL Sync="TRUE">759564.239802</northBL>
<exTypeCode Sync="TRUE">1</exTypeCode>
</nativeExtBox>
<itemLocation>
<linkage Sync="TRUE">file://\\gisbdstore\GISDATA\Koren\tm_1977_arcpro.gdb</linkage>
<protocol Sync="TRUE">Local Area Network</protocol>
</itemLocation>
<itemSize Sync="TRUE">51.773</itemSize>
</itemProps>
<coordRef>
<type Sync="TRUE">Projected</type>
<geogcsn Sync="TRUE">GCS_North_American_1983</geogcsn>
<csUnits Sync="TRUE">Linear Unit: Foot_US (0.304801)</csUnits>
<projcsn Sync="TRUE">NAD_1983_StatePlane_Maryland_FIPS_1900_Feet</projcsn>
<peXml Sync="TRUE">&lt;ProjectedCoordinateSystem xsi:type='typens:ProjectedCoordinateSystem' xmlns:xsi='http://www.w3.org/2001/XMLSchema-instance' xmlns:xs='http://www.w3.org/2001/XMLSchema' xmlns:typens='http://www.esri.com/schemas/ArcGIS/10.8'&gt;&lt;WKT&gt;PROJCS[&amp;quot;NAD_1983_StatePlane_Maryland_FIPS_1900_Feet&amp;quot;,GEOGCS[&amp;quot;GCS_North_American_1983&amp;quot;,DATUM[&amp;quot;D_North_American_1983&amp;quot;,SPHEROID[&amp;quot;GRS_1980&amp;quot;,6378137.0,298.257222101]],PRIMEM[&amp;quot;Greenwich&amp;quot;,0.0],UNIT[&amp;quot;Degree&amp;quot;,0.0174532925199433]],PROJECTION[&amp;quot;Lambert_Conformal_Conic&amp;quot;],PARAMETER[&amp;quot;False_Easting&amp;quot;,1312333.333333333],PARAMETER[&amp;quot;False_Northing&amp;quot;,0.0],PARAMETER[&amp;quot;Central_Meridian&amp;quot;,-77.0],PARAMETER[&amp;quot;Standard_Parallel_1&amp;quot;,38.3],PARAMETER[&amp;quot;Standard_Parallel_2&amp;quot;,39.45],PARAMETER[&amp;quot;Latitude_Of_Origin&amp;quot;,37.66666666666666],UNIT[&amp;quot;Foot_US&amp;quot;,0.3048006096012192],AUTHORITY[&amp;quot;EPSG&amp;quot;,2248]]&lt;/WKT&gt;&lt;XOrigin&gt;-120561100&lt;/XOrigin&gt;&lt;YOrigin&gt;-95444400&lt;/YOrigin&gt;&lt;XYScale&gt;36953082.294548117&lt;/XYScale&gt;&lt;ZOrigin&gt;-100000&lt;/ZOrigin&gt;&lt;ZScale&gt;10000&lt;/ZScale&gt;&lt;MOrigin&gt;-100000&lt;/MOrigin&gt;&lt;MScale&gt;10000&lt;/MScale&gt;&lt;XYTolerance&gt;0.0032808333333333331&lt;/XYTolerance&gt;&lt;ZTolerance&gt;0.001&lt;/ZTolerance&gt;&lt;MTolerance&gt;0.001&lt;/MTolerance&gt;&lt;HighPrecision&gt;true&lt;/HighPrecision&gt;&lt;WKID&gt;102685&lt;/WKID&gt;&lt;LatestWKID&gt;2248&lt;/LatestWKID&gt;&lt;/ProjectedCoordinateSystem&gt;</peXml>
</coordRef>
</DataProperties>
<SyncDate>20220811</SyncDate>
<SyncTime>09331600</SyncTime>
<ModDate>20220811</ModDate>
<ModTime>09331600</ModTime>
</Esri>
<dataIdInfo>
<envirDesc Sync="TRUE"> Version 6.2 (Build 9200) ; Esri ArcGIS 10.8.0.12790</envirDesc>
<dataLang>
<languageCode Sync="TRUE" value="eng"/>
<countryCode Sync="TRUE" value="USA"/>
</dataLang>
<idCitation>
<resTitle Sync="TRUE">TaxMap1977</resTitle>
<presForm>
<PresFormCd Sync="TRUE" value="011"/>
</presForm>
</idCitation>
<spatRpType>
<SpatRepTypCd Sync="TRUE" value="002"/>
</spatRpType>
<dataExt>
<geoEle>
<GeoBndBox esriExtentType="search">
<exTypeCode Sync="TRUE">1</exTypeCode>
<westBL Sync="TRUE">-76.575246</westBL>
<eastBL Sync="TRUE">-76.071532</eastBL>
<northBL Sync="TRUE">39.751417</northBL>
<southBL Sync="TRUE">39.378424</southBL>
</GeoBndBox>
</geoEle>
</dataExt>
<idAbs/>
<idPurp/>
<idCredit/>
<resConst>
<Consts>
<useLimit/>
</Consts>
</resConst>
</dataIdInfo>
<mdLang>
<languageCode Sync="TRUE" value="eng"/>
<countryCode Sync="TRUE" value="USA"/>
</mdLang>
<distInfo>
<distFormat>
<formatName Sync="TRUE">File Geodatabase Raster Dataset</formatName>
</distFormat>
<distTranOps>
<transSize Sync="TRUE">51.773</transSize>
</distTranOps>
</distInfo>
<mdHrLv>
<ScopeCd Sync="TRUE" value="005"/>
</mdHrLv>
<mdHrLvName Sync="TRUE">dataset</mdHrLvName>
<refSysInfo>
<RefSystem>
<refSysID>
<identCode Sync="TRUE" code="2248"/>
<idCodeSpace Sync="TRUE">EPSG</idCodeSpace>
<idVersion Sync="TRUE">5.3(9.0.0)</idVersion>
</refSysID>
</RefSystem>
</refSysInfo>
<spdoinfo>
<rastinfo>
<rasttype Sync="TRUE">Pixel</rasttype>
<rowcount Sync="TRUE">44943</rowcount>
<colcount Sync="TRUE">47007</colcount>
<rastxsz Sync="TRUE">3.000000</rastxsz>
<rastysz Sync="TRUE">3.000000</rastysz>
<rastbpp Sync="TRUE">8</rastbpp>
<vrtcount Sync="TRUE">1</vrtcount>
<rastorig Sync="TRUE">Upper Left</rastorig>
<rastcmap Sync="TRUE">FALSE</rastcmap>
<rastcomp Sync="TRUE">LZ77</rastcomp>
<rastband Sync="TRUE">1</rastband>
<rastdtyp Sync="TRUE">pixel codes</rastdtyp>
<rastplyr Sync="TRUE">TRUE</rastplyr>
<rastifor Sync="TRUE">FGDBR</rastifor>
</rastinfo>
</spdoinfo>
<spref>
<horizsys>
<planar>
<planci>
<plance Sync="TRUE">row and column</plance>
<coordrep>
<absres Sync="TRUE">3.000000</absres>
<ordres Sync="TRUE">3.000000</ordres>
</coordrep>
</planci>
</planar>
</horizsys>
</spref>
<mdDateSt Sync="TRUE">20220811</mdDateSt>
<eainfo>
<detailed Name="VAT_Maps">
<enttyp>
<enttypl Sync="TRUE">VAT_Maps</enttypl>
<enttypt Sync="TRUE">Table</enttypt>
<enttypc Sync="TRUE">2</enttypc>
</enttyp>
<attr>
<attrlabl Sync="TRUE">OBJECTID</attrlabl>
<attalias Sync="TRUE">OBJECTID</attalias>
<attrtype Sync="TRUE">OID</attrtype>
<attwidth Sync="TRUE">4</attwidth>
<atprecis Sync="TRUE">0</atprecis>
<attscale Sync="TRUE">0</attscale>
<attrdef Sync="TRUE">Internal feature number.</attrdef>
<attrdefs Sync="TRUE">Esri</attrdefs>
<attrdomv>
<udom Sync="TRUE">Sequential unique whole numbers that are automatically generated.</udom>
</attrdomv>
</attr>
<attr>
<attrlabl Sync="TRUE">Value</attrlabl>
<attalias Sync="TRUE">Value</attalias>
<attrtype Sync="TRUE">Integer</attrtype>
<attwidth Sync="TRUE">4</attwidth>
<atprecis Sync="TRUE">0</atprecis>
<attscale Sync="TRUE">0</attscale>
</attr>
<attr>
<attrlabl Sync="TRUE">Count</attrlabl>
<attalias Sync="TRUE">Count</attalias>
<attrtype Sync="TRUE">Double</attrtype>
<attwidth Sync="TRUE">8</attwidth>
<atprecis Sync="TRUE">0</atprecis>
<attscale Sync="TRUE">0</attscale>
</attr>
</detailed>
</eainfo>
</metadata>
